BEGIN:VCALENDAR
VERSION:2.0
PRODID:-//Washington Way - ECPv6.3.7//NONSGML v1.0//EN
CALSCALE:GREGORIAN
METHOD:PUBLISH
X-ORIGINAL-URL:http://www.washingtonway.co.uk
X-WR-CALDESC:Events for Washington Way
REFRESH-INTERVAL;VALUE=DURATION:PT1H
X-Robots-Tag:noindex
X-PUBLISHED-TTL:PT1H
BEGIN:VTIMEZONE
TZID:UTC
BEGIN:STANDARD
TZOFFSETFROM:+0000
TZOFFSETTO:+0000
TZNAME:UTC
DTSTART:20250101T000000
END:STANDARD
END:VTIMEZONE
BEGIN:VEVENT
DTSTART;TZID=UTC:20251102T130000
DTEND;TZID=UTC:20251102T160000
DTSTAMP:20260422T060332
CREATED:20250910T124349Z
LAST-MODIFIED:20250910T124349Z
UID:2070-1762088400-1762099200@www.washingtonway.co.uk
SUMMARY:Halloween Disco: NE38 Sports Bar\, Barmston
DESCRIPTION:
URL:http://www.washingtonway.co.uk/event/halloween-disco-ne38-sports-bar-barmston/
LOCATION:NE38 Sports Bar\, NE38 8DG
CATEGORIES:For Kids
END:VEVENT
BEGIN:VEVENT
DTSTART;TZID=UTC:20251031T180000
DTEND;TZID=UTC:20251031T200000
DTSTAMP:20260422T060332
CREATED:20250915T191451Z
LAST-MODIFIED:20250915T191451Z
UID:2124-1761933600-1761940800@www.washingtonway.co.uk
SUMMARY:Halloween Kids Spooky Disco: The Honest Boy\, Blackfell
DESCRIPTION:
URL:http://www.washingtonway.co.uk/event/halloween-kids-spooky-disco-the-honest-boy-blackfell/
LOCATION:The Honest Boy\, Blackfell\, NE37 1JN
CATEGORIES:For Kids
END:VEVENT
BEGIN:VEVENT
DTSTART;TZID=UTC:20250830T140000
DTEND;TZID=UTC:20250830T160000
DTSTAMP:20260422T060332
CREATED:20250818T163947Z
LAST-MODIFIED:20250818T163947Z
UID:2061-1756562400-1756569600@www.washingtonway.co.uk
SUMMARY:Super Saturday Free Activities: Glebe Methodist Church
DESCRIPTION:
URL:http://www.washingtonway.co.uk/event/super-saturday-free-activities-glebe-methodist-church/
LOCATION:Glebe Methodist Church\, Fatfield Road\, Washington\, NE38 7DE
CATEGORIES:For Kids
END:VEVENT
BEGIN:VEVENT
DTSTART;TZID=UTC:20250825T120000
DTEND;TZID=UTC:20250825T150000
DTSTAMP:20260422T060332
CREATED:20250818T164636Z
LAST-MODIFIED:20250818T164636Z
UID:2064-1756123200-1756134000@www.washingtonway.co.uk
SUMMARY:Kids Summer Fest: The Honest Boy\, Blackfell
DESCRIPTION:
URL:http://www.washingtonway.co.uk/event/kids-summer-fest-the-honest-boy-blackfell/
LOCATION:The Honest Boy\, Blackfell\, NE37 1JN
CATEGORIES:For Kids
END:VEVENT
BEGIN:VEVENT
DTSTART;TZID=UTC:20250819T103000
DTEND;TZID=UTC:20250819T120000
DTSTAMP:20260422T060332
CREATED:20250818T161428Z
LAST-MODIFIED:20250818T161428Z
UID:2054-1755599400-1755604800@www.washingtonway.co.uk
SUMMARY:Children's Craft Session: Bowes Railway
DESCRIPTION:
URL:http://www.washingtonway.co.uk/event/childrens-craft-session-bowes-railway/
LOCATION:Bowes Railway\, NE9 7QJ
CATEGORIES:For Kids
END:VEVENT
BEGIN:VEVENT
DTSTART;TZID=UTC:20250811T100000
DTEND;TZID=UTC:20250811T120000
DTSTAMP:20260422T060332
CREATED:20250730T182029Z
LAST-MODIFIED:20250730T182029Z
UID:1952-1754906400-1754913600@www.washingtonway.co.uk
SUMMARY:Holiday activities for 5-11 years: Washington Mind\, Columbia
DESCRIPTION:
URL:http://www.washingtonway.co.uk/event/holiday-activities-for-5-11-years-washington-mind-columbia/
LOCATION:The Life House\, NE38 7LP
CATEGORIES:For Kids
END:VEVENT
END:VCALENDAR