BEGIN:VCALENDAR
VERSION:2.0
PRODID:-//Washington Way - ECPv6.3.7//NONSGML v1.0//EN
CALSCALE:GREGORIAN
METHOD:PUBLISH
X-ORIGINAL-URL:http://www.washingtonway.co.uk
X-WR-CALDESC:Events for Washington Way
REFRESH-INTERVAL;VALUE=DURATION:PT1H
X-Robots-Tag:noindex
X-PUBLISHED-TTL:PT1H
BEGIN:VTIMEZONE
TZID:UTC
BEGIN:STANDARD
TZOFFSETFROM:+0000
TZOFFSETTO:+0000
TZNAME:UTC
DTSTART:20250101T000000
END:STANDARD
END:VTIMEZONE
BEGIN:VEVENT
DTSTART;TZID=UTC:20250912T190000
DTEND;TZID=UTC:20250912T233000
DTSTAMP:20260422T094607
CREATED:20250804T163921Z
LAST-MODIFIED:20250804T163921Z
UID:2014-1757703600-1757719800@www.washingtonway.co.uk
SUMMARY:Olly Murs Tribute Show: The Wheelhouse\, Albany
DESCRIPTION:
URL:http://www.washingtonway.co.uk/event/olly-murs-tribute-show-the-wheelhouse-albany/
LOCATION:The Wheelhouse\, Albany Village Centre\, Washington\, United Kingdom
CATEGORIES:Live Music
END:VEVENT
BEGIN:VEVENT
DTSTART;TZID=UTC:20250920T170000
DTEND;TZID=UTC:20250920T200000
DTSTAMP:20260422T094607
CREATED:20250910T140837Z
LAST-MODIFIED:20250910T140837Z
UID:2073-1758387600-1758398400@www.washingtonway.co.uk
SUMMARY:The Material Girl\, Madonna tribute: New Tavern\, Concord
DESCRIPTION:
URL:http://www.washingtonway.co.uk/event/the-material-girl-madonna-tribute-new-tavern-concord/
LOCATION:New Tavern\, NE37 2AL
CATEGORIES:Live Music
END:VEVENT
END:VCALENDAR