BEGIN:VCALENDAR
VERSION:2.0
PRODID:-//Washington Way - ECPv6.3.7//NONSGML v1.0//EN
CALSCALE:GREGORIAN
METHOD:PUBLISH
X-ORIGINAL-URL:http://www.washingtonway.co.uk
X-WR-CALDESC:Events for Washington Way
REFRESH-INTERVAL;VALUE=DURATION:PT1H
X-Robots-Tag:noindex
X-PUBLISHED-TTL:PT1H
BEGIN:VTIMEZONE
TZID:UTC
BEGIN:STANDARD
TZOFFSETFROM:+0000
TZOFFSETTO:+0000
TZNAME:UTC
DTSTART:20250101T000000
END:STANDARD
END:VTIMEZONE
BEGIN:VEVENT
DTSTART;TZID=UTC:20250822T200000
DTEND;TZID=UTC:20250822T223000
DTSTAMP:20260424T172503
CREATED:20250818T163316Z
LAST-MODIFIED:20250818T163316Z
UID:2058-1755892800-1755901800@www.washingtonway.co.uk
SUMMARY:The Bitters: Champs\, Ayton
DESCRIPTION:
URL:http://www.washingtonway.co.uk/event/the-bitters-champs-ayton/
LOCATION:Champs\, NE38 0EF
CATEGORIES:Live Music
END:VEVENT
END:VCALENDAR