BEGIN:VCALENDAR
VERSION:2.0
PRODID:-//Washington Way - ECPv6.3.7//NONSGML v1.0//EN
CALSCALE:GREGORIAN
METHOD:PUBLISH
X-WR-CALNAME:Washington Way
X-ORIGINAL-URL:http://www.washingtonway.co.uk
X-WR-CALDESC:Events for Washington Way
REFRESH-INTERVAL;VALUE=DURATION:PT1H
X-Robots-Tag:noindex
X-PUBLISHED-TTL:PT1H
BEGIN:VTIMEZONE
TZID:UTC
BEGIN:STANDARD
TZOFFSETFROM:+0000
TZOFFSETTO:+0000
TZNAME:UTC
DTSTART:20250101T000000
END:STANDARD
END:VTIMEZONE
BEGIN:VEVENT
DTSTART;TZID=UTC:20251107T203000
DTEND;TZID=UTC:20251107T223000
DTSTAMP:20260421T205750
CREATED:20251104T174914Z
LAST-MODIFIED:20251104T174914Z
UID:2208-1762547400-1762554600@www.washingtonway.co.uk
SUMMARY:Louise May\, singer: The Steps\, Washington Village
DESCRIPTION:
URL:http://www.washingtonway.co.uk/event/louise-may-singer-the-steps-washington-village-2/
LOCATION:The Steps\, Washington Village\, NE38 7HP
CATEGORIES:Live Music
END:VEVENT
BEGIN:VEVENT
DTSTART;TZID=UTC:20251107T200000
DTEND;TZID=UTC:20251107T223000
DTSTAMP:20260421T205750
CREATED:20251104T181726Z
LAST-MODIFIED:20251104T181726Z
UID:2215-1762545600-1762554600@www.washingtonway.co.uk
SUMMARY:Chris Wraith\, acoustic set: Champs\, Ayton
DESCRIPTION:
URL:http://www.washingtonway.co.uk/event/chris-wraith-acoustic-set-champs-ayton/
LOCATION:Champs\, NE38 0EF
CATEGORIES:Live Music
END:VEVENT
BEGIN:VEVENT
DTSTART;TZID=UTC:20251018T190000
DTEND;TZID=UTC:20251018T220000
DTSTAMP:20260421T205750
CREATED:20250910T172612Z
LAST-MODIFIED:20250910T172612Z
UID:2079-1760814000-1760824800@www.washingtonway.co.uk
SUMMARY:Annie Duggan & Rob Hines: Holy Trinity Church\, Washington Village
DESCRIPTION:
URL:http://www.washingtonway.co.uk/event/annie-duggan-rob-hines-holy-trinity-church-washington-village/
LOCATION:Holy Trinity – Washington Village\, The Avenue\, NE38 7LE
CATEGORIES:Live Music
END:VEVENT
BEGIN:VEVENT
DTSTART;TZID=UTC:20250920T170000
DTEND;TZID=UTC:20250920T200000
DTSTAMP:20260421T205750
CREATED:20250910T140837Z
LAST-MODIFIED:20250910T140837Z
UID:2073-1758387600-1758398400@www.washingtonway.co.uk
SUMMARY:The Material Girl\, Madonna tribute: New Tavern\, Concord
DESCRIPTION:
URL:http://www.washingtonway.co.uk/event/the-material-girl-madonna-tribute-new-tavern-concord/
LOCATION:New Tavern\, NE37 2AL
CATEGORIES:Live Music
END:VEVENT
BEGIN:VEVENT
DTSTART;TZID=UTC:20250912T190000
DTEND;TZID=UTC:20250912T233000
DTSTAMP:20260421T205750
CREATED:20250804T163921Z
LAST-MODIFIED:20250804T163921Z
UID:2014-1757703600-1757719800@www.washingtonway.co.uk
SUMMARY:Olly Murs Tribute Show: The Wheelhouse\, Albany
DESCRIPTION:
URL:http://www.washingtonway.co.uk/event/olly-murs-tribute-show-the-wheelhouse-albany/
LOCATION:The Wheelhouse\, Albany Village Centre\, Washington\, United Kingdom
CATEGORIES:Live Music
END:VEVENT
BEGIN:VEVENT
DTSTART;TZID=UTC:20250829T183000
DTEND;TZID=UTC:20250829T223000
DTSTAMP:20260421T205750
CREATED:20250814T093645Z
LAST-MODIFIED:20250814T093645Z
UID:2049-1756492200-1756506600@www.washingtonway.co.uk
SUMMARY:Bonkers Bingo + guest singer: Westwood Club\, Columbia
DESCRIPTION:
URL:http://www.washingtonway.co.uk/event/bonkers-bingo-guest-singer-westwood-club-columbia/
LOCATION:Westwood Club\, NE38 7LJ
CATEGORIES:Live Music,Pub/club nights
END:VEVENT
BEGIN:VEVENT
DTSTART;TZID=UTC:20250822T200000
DTEND;TZID=UTC:20250822T223000
DTSTAMP:20260421T205750
CREATED:20250818T163316Z
LAST-MODIFIED:20250818T163316Z
UID:2058-1755892800-1755901800@www.washingtonway.co.uk
SUMMARY:The Bitters: Champs\, Ayton
DESCRIPTION:
URL:http://www.washingtonway.co.uk/event/the-bitters-champs-ayton/
LOCATION:Champs\, NE38 0EF
CATEGORIES:Live Music
END:VEVENT
BEGIN:VEVENT
DTSTART;TZID=UTC:20250809T200000
DTEND;TZID=UTC:20250809T223000
DTSTAMP:20260421T205750
CREATED:20250805T183331Z
LAST-MODIFIED:20250805T183331Z
UID:2037-1754769600-1754778600@www.washingtonway.co.uk
SUMMARY:Erin Frances - singer: The Victoria Inn
DESCRIPTION:
URL:http://www.washingtonway.co.uk/event/erin-frances-singer-the-victoria-inn/
LOCATION:The Victoria Inn\, NE38 7DJ
CATEGORIES:Live Music
END:VEVENT
BEGIN:VEVENT
DTSTART;TZID=UTC:20250802T200000
DTEND;TZID=UTC:20250802T223000
DTSTAMP:20260421T205750
CREATED:20250730T182437Z
LAST-MODIFIED:20250730T182437Z
UID:1956-1754164800-1754173800@www.washingtonway.co.uk
SUMMARY:C-Collective live band: Champs\, Ayton
DESCRIPTION:
URL:http://www.washingtonway.co.uk/event/c-collective-live-band-champs-ayton/
LOCATION:Champs\, NE38 0EF
CATEGORIES:Live Music
END:VEVENT
BEGIN:VEVENT
DTSTART;TZID=UTC:20250725T200000
DTEND;TZID=UTC:20250725T223000
DTSTAMP:20260421T205750
CREATED:20250723T180946Z
LAST-MODIFIED:20250723T180946Z
UID:1877-1753473600-1753482600@www.washingtonway.co.uk
SUMMARY:Hayley Harvey Britpop Night: The Teal Farm\, Teal Farm
DESCRIPTION:
URL:http://www.washingtonway.co.uk/event/hayley-harvey-britpop-night-the-teal-farm-teal-farm/
LOCATION:The Teal Farm\, NE38 8FH
CATEGORIES:Live Music
END:VEVENT
END:VCALENDAR