BEGIN:VCALENDAR
VERSION:2.0
PRODID:-//Washington Way - ECPv6.3.7//NONSGML v1.0//EN
CALSCALE:GREGORIAN
METHOD:PUBLISH
X-ORIGINAL-URL:http://www.washingtonway.co.uk
X-WR-CALDESC:Events for Washington Way
REFRESH-INTERVAL;VALUE=DURATION:PT1H
X-Robots-Tag:noindex
X-PUBLISHED-TTL:PT1H
BEGIN:VTIMEZONE
TZID:UTC
BEGIN:STANDARD
TZOFFSETFROM:+0000
TZOFFSETTO:+0000
TZNAME:UTC
DTSTART:20250101T000000
END:STANDARD
END:VTIMEZONE
BEGIN:VEVENT
DTSTART;TZID=UTC:20251024T193000
DTEND;TZID=UTC:20251024T230000
DTSTAMP:20260424T124841
CREATED:20250915T192730Z
LAST-MODIFIED:20250915T192730Z
UID:2130-1761334200-1761346800@www.washingtonway.co.uk
SUMMARY:Adults Halloween Fancy Dress Party: NE38 Sports Bar\, Barmston
DESCRIPTION:
URL:http://www.washingtonway.co.uk/event/adults-halloween-fancy-dress-party-ne38-sports-bar-barmston/
LOCATION:NE38 Sports Bar\, NE38 8DG
CATEGORIES:Pub/club nights
END:VEVENT
BEGIN:VEVENT
DTSTART;TZID=UTC:20251025T180000
DTEND;TZID=UTC:20251025T230000
DTSTAMP:20260424T124841
CREATED:20251013T173632Z
LAST-MODIFIED:20251013T173632Z
UID:2147-1761415200-1761433200@www.washingtonway.co.uk
SUMMARY:Halloween Party: Washington Celtic Club\, Columbia
DESCRIPTION:
URL:http://www.washingtonway.co.uk/event/halloween-party-washington-celtic-club-columbia/
LOCATION:Washington Celtic Club\, Station Road\, NE38 8LX
CATEGORIES:Pub/club nights
END:VEVENT
END:VCALENDAR