BEGIN:VCALENDAR
VERSION:2.0
PRODID:-//Washington Way - ECPv6.3.7//NONSGML v1.0//EN
CALSCALE:GREGORIAN
METHOD:PUBLISH
X-WR-CALNAME:Washington Way
X-ORIGINAL-URL:http://www.washingtonway.co.uk
X-WR-CALDESC:Events for Washington Way
REFRESH-INTERVAL;VALUE=DURATION:PT1H
X-Robots-Tag:noindex
X-PUBLISHED-TTL:PT1H
BEGIN:VTIMEZONE
TZID:UTC
BEGIN:STANDARD
TZOFFSETFROM:+0000
TZOFFSETTO:+0000
TZNAME:UTC
DTSTART:20250101T000000
END:STANDARD
END:VTIMEZONE
BEGIN:VEVENT
DTSTART;TZID=UTC:20250830T100000
DTEND;TZID=UTC:20250830T140000
DTSTAMP:20260424T221144
CREATED:20250723T191957Z
LAST-MODIFIED:20250723T191957Z
UID:1885-1756548000-1756562400@www.washingtonway.co.uk
SUMMARY:Summer Fair: St George's Care Home\, Harraton
DESCRIPTION:
URL:http://www.washingtonway.co.uk/event/summer-fair-st-georges-care-home-harraton/
LOCATION:St George’s Care Home\, NE38 9AH.
CATEGORIES:Summer Fairs
END:VEVENT
BEGIN:VEVENT
DTSTART;TZID=UTC:20250802T140000
DTEND;TZID=UTC:20250802T160000
DTSTAMP:20260424T221144
CREATED:20250801T171800Z
LAST-MODIFIED:20250801T171800Z
UID:1989-1754143200-1754150400@www.washingtonway.co.uk
SUMMARY:Summer Fair: Washington Grange Care Home\, Barmston
DESCRIPTION:
URL:http://www.washingtonway.co.uk/event/summer-fair-washington-grange-care-home-barmston/
LOCATION:Washington Grange Care Home\, NE38 8HZ
CATEGORIES:Summer Fairs
END:VEVENT
END:VCALENDAR